BEGIN:VCALENDAR
VERSION:2.0
PRODID:-//ChamberMaster//Event Calendar 2.0//EN
METHOD:PUBLISH
X-PUBLISHED-TTL:P3D
REFRESH-INTERVAL:P3D
CALSCALE:GREGORIAN
BEGIN:VEVENT
DTSTART:20221027T233000Z
DTEND:20221028T003000Z
X-MICROSOFT-CDO-ALLDAYEVENT:FALSE
SUMMARY:Ribbon Cutting for Engel and Volkers
DESCRIPTION:Snoqualmie welcomes another new business. Join us for the ribbon cutting ceremony for Engel and Volkers at 4:30pm on Thursday\, October 27.
X-ALT-DESC;FMTTYPE=text/html:Snoqualmie welcomes another new business. Join us for the ribbon cutting ceremony for Engel and Volkers at 4:30pm on Thursday\, October 27.&nbsp\;
LOCATION:8150 RAILROAD AVE SE\, Downtown Snoqualmie
UID:e.1840.15168
SEQUENCE:3
DTSTAMP:20260424T221724Z
URL:https://business2.snovalley.org/events/details/ribbon-cutting-for-engel-and-volkers-15168
END:VEVENT

END:VCALENDAR
