BEGIN:VCALENDAR
VERSION:2.0
PRODID:-//ChamberMaster//Event Calendar 2.0//EN
METHOD:PUBLISH
X-PUBLISHED-TTL:P3D
REFRESH-INTERVAL:P3D
CALSCALE:GREGORIAN
BEGIN:VEVENT
DTSTART:20220527T010000Z
DTEND:20220527T023000Z
X-MICROSOFT-CDO-ALLDAYEVENT:FALSE
SUMMARY:Inside Out: Trauma-responsive Care
DESCRIPTION:Join us for Inside Out: Trauma-responsive Care - a free\, virtual 4-week course beginning Thursday\, May 12 at 6 p.m.\, designed for adults to learn about trauma\, its impacts\, and healing through self-awareness\, self-regulation\, and mindfulness. The course is presented by Michelle John\, EYN's Youth Resilience and Community Resource Coordinator. Details and registration information: https://eyninsideout.eventbrite.com
X-ALT-DESC;FMTTYPE=text/html:<span style="color:rgb(5\, 5\, 5)\; font-family:segoe ui historic\,segoe ui\,helvetica\,arial\,sans-serif\; font-size:15px">Join us for Inside Out: Trauma-responsive Care - a free\, virtual 4-week course beginning Thursday\, May 12 at 6 p.m.\, designed for adults to learn about trauma\, its impacts\, and healing through self-awareness\, self-regulation\, and mindfulness. The course is presented by Michelle John\, EYN&rsquo\;s Youth Resilience and Community Resource Coordinator. Details and registration information: </span><span style="color:rgb(5\, 5\, 5)\; font-family:segoe ui historic\,segoe ui\,helvetica\,arial\,sans-serif\; font-size:15px"><a class="oajrlxb2 g5ia77u1 qu0x051f esr5mh6w e9989ue4 r7d6kgcz rq0escxv nhd2j8a9 nc684nl6 p7hjln8o kvgmc6g5 cxmmr5t8 oygrvhab hcukyx3x jb3vyjys rz4wbd8a qt6c0cv9 a8nywdso i1ao9s8h esuyzwwr f1sip0of lzcic4wl gpro0wi8 py34i1dx" href="https://l.facebook.com/l.php?u=https%3A%2F%2Feyninsideout.eventbrite.com%2F%3Ffbclid%3DIwAR1LYAONxLjzTss0i9FnhFhcaiwFOXjfzI95cHthQdUMIyx_kCUQFpwtwUk&amp\;h=AT3oEsNpBeJlrh39gvq1faAmTsKuF2EcDTo9QjhuDXFb0Gi2zx8mT1baRHB0y8tzgVV5oI3O_YPnK4P36jsEfmt6I2qsbNA0Nir2XHMRM6YqOZlzYN4-gAkOoLlJ6Q0tVna__csKU3IGNGbxpQ&amp\;__tn__=-UK-R&amp\;c[0]=AT1qEsJwoZprTPEDOVVSI7kvyY8tgHjY47Ku5ygEW6e-Gcldf8-R-mdj-TItAkYJoVtTzgWyfJv3YBCIfCKGXBgCZSN8KlwOkqUIW0X9KyLJ1p7VFEMhvCYez7Z02fcv9JWRMD3A7fhWslggUwqQFgPCOg" rel="nofollow" style="color: var(--blue-link)\; cursor: pointer\; text-decoration-line: none\; outline: none\; list-style: none\; border-width: 0px\; border-style: initial\; border-color: initial\; padding: 0px\; margin: 0px\; touch-action: manipulation\; background-color: transparent\; text-align: inherit\; display: inline\; -webkit-tap-highlight-color: transparent\; box-sizing: border-box\;" tabindex="0" target="_blank">https://eyninsideout.eventbrite.com</a></span>
LOCATION:Virtual
UID:e.1840.15117
SEQUENCE:3
DTSTAMP:20260425T113856Z
URL:https://business2.snovalley.org/events/details/inside-out-trauma-responsive-care-05-26-2022-15117
END:VEVENT

END:VCALENDAR
