BEGIN:VCALENDAR
VERSION:2.0
PRODID:-//ChamberMaster//Event Calendar 2.0//EN
METHOD:PUBLISH
X-PUBLISHED-TTL:P3D
REFRESH-INTERVAL:P3D
CALSCALE:GREGORIAN
BEGIN:VEVENT
DTSTART:20220525T183000Z
DTEND:20220525T203000Z
X-MICROSOFT-CDO-ALLDAYEVENT:FALSE
SUMMARY:May Chamber Luncheon- Tourism in the Valley
DESCRIPTION:Join us for a jammed pack luncheon from Alan Stephens\, GM Salish Lodge\, SnoValley Chamber's tourism initiative and learn more about the new South Fork and Compass Outdoors new adventure.
X-ALT-DESC;FMTTYPE=text/html:Join us for a jammed pack luncheon from Alan Stephens\, GM Salish Lodge\, SnoValley Chamber&rsquo\;s tourism initiative and learn more about the new South Fork and Compass Outdoors new adventure.&nbsp\;
LOCATION:Iron Duck Public House North Bend\, WA
UID:e.1840.15122
SEQUENCE:3
DTSTAMP:20260421T133939Z
URL:http://business2.snovalley.org/events/details/may-chamber-luncheon-tourism-in-the-valley-15122
END:VEVENT

END:VCALENDAR
