BEGIN:VCALENDAR
VERSION:2.0
PRODID:-//ChamberMaster//Event Calendar 2.0//EN
METHOD:PUBLISH
X-PUBLISHED-TTL:P3D
REFRESH-INTERVAL:P3D
CALSCALE:GREGORIAN
BEGIN:VEVENT
DTSTART:20250215T023000Z
DTEND:20250215T050000Z
X-MICROSOFT-CDO-ALLDAYEVENT:FALSE
SUMMARY:India Belly & Kimberlea Miller - Valentines Dinner Special of 7 courses & with international spirits
DESCRIPTION:Celebrate love this Valentine's Day with India Belly! Enjoy a luxurious seven-course dinner paired with international spirits\, curated in collaboration with Kimberlea Miller. An unforgettable evening of flavors and romance awaits.\n\n\n\n$150/person + tax & gratuity\n\n\n\nCall or text 408-242-5627 to RSVP and reserve your space!
X-ALT-DESC;FMTTYPE=text/html:<div class="xdj266r x11i5rnm xat24cr x1mh8g0r x1vvkbs" style="margin: 0px\; overflow-wrap: break-word\; font-family: &quot\;Segoe UI Historic&quot\;\, &quot\;Segoe UI&quot\;\, Helvetica\, Arial\, sans-serif\; color: rgb(8\, 8\, 9)\; font-size: 15px\;"><span style="font-size:20px\;">Celebrate love this Valentine&rsquo\;s Day with India Belly! Enjoy a luxurious seven-course dinner paired with international spirits\, curated in collaboration with Kimberlea Miller. An unforgettable evening of flavors and romance awaits.</span></div>\n\n<div class="x11i5rnm xat24cr x1mh8g0r x1vvkbs xtlvy1s" style="margin: 0.5em 0px 0px\; overflow-wrap: break-word\; font-family: &quot\;Segoe UI Historic&quot\;\, &quot\;Segoe UI&quot\;\, Helvetica\, Arial\, sans-serif\; color: rgb(8\, 8\, 9)\; font-size: 15px\;"><br />\n<span style="font-size:20px\;">$150/person + tax &amp\; gratuity<br />\n<br />\nCall or text 408-242-5627 to RSVP and reserve your space!</span></div>\n
LOCATION:India Belly Restaurant 8406 Railroad Pl SE\, Snoqualmie\, WA 98065
UID:e.1840.23525
SEQUENCE:3
DTSTAMP:20260424T223916Z
URL:http://business2.snovalley.org/events/details/india-belly-kimberlea-miller-valentines-dinner-special-of-7-courses-with-international-spirits-23525
END:VEVENT

END:VCALENDAR
