BEGIN:VCALENDAR
VERSION:2.0
PRODID:-//ChamberMaster//Event Calendar 2.0//EN
METHOD:PUBLISH
X-PUBLISHED-TTL:P3D
REFRESH-INTERVAL:P3D
CALSCALE:GREGORIAN
BEGIN:VEVENT
DTSTART:20270420T151500Z
DTEND:20270420T190000Z
X-MICROSOFT-CDO-ALLDAYEVENT:FALSE
SUMMARY:Easter at Church on the Ridge
DESCRIPTION:Celebrate Easter on April 20!\n\n\n\n\n\nYou'll experience a welcoming atmosphere and a powerful message of hope. The kids will have a blast with activities designed specifically for them. \n\n\n\n\n\n\n	Three Gathering Times @ 8:15\, 9:30\, and 11:00 am\n	Live Band\n	Family Photo Booth\n	Free Coffee\n	Fun Kids Experience\n\n\n\n\n\n\nWe can't wait to meet you this Easter!
X-ALT-DESC;FMTTYPE=text/html:<div>\n<div>\n<h2>Celebrate Easter on April 20!</h2>\n</div>\n</div>\n\n<div>\n<div>\n<p>You&rsquo\;ll experience a welcoming atmosphere and a powerful message of hope. The kids will have a blast with activities designed specifically for them.&nbsp\;</p>\n</div>\n</div>\n\n<div>\n<div>\n<ul style="list-style-type:none">\n	<li><span style="color:var( --e-global-color-6d6dc3a )">Three Gathering Times @ 8:15\, 9:30\, and 11:00 am</span></li>\n	<li><span style="color:var( --e-global-color-6d6dc3a )">Live Band</span></li>\n	<li><span style="color:var( --e-global-color-6d6dc3a )">Family Photo Booth</span></li>\n	<li><span style="color:var( --e-global-color-6d6dc3a )">Free Coffee</span></li>\n	<li><span style="color:var( --e-global-color-6d6dc3a )">Fun Kids Experience</span></li>\n</ul>\n</div>\n</div>\n\n<div>\n<div>\n<p>We can&rsquo\;t wait to meet you this Easter!</p>\n</div>\n</div>\n
LOCATION:Church on the Ridge\, 35221 SE Douglas Street\, Snoqualmie\, WA 98065
UID:e.1840.23633
SEQUENCE:3
DTSTAMP:20260420T015114Z
URL:http://business2.snovalley.org/events/details/easter-at-church-on-the-ridge-04-20-2027-23633
END:VEVENT

END:VCALENDAR
