BEGIN:VCALENDAR
VERSION:2.0
PRODID:-//ChamberMaster//Event Calendar 2.0//EN
METHOD:PUBLISH
X-PUBLISHED-TTL:P3D
REFRESH-INTERVAL:P3D
CALSCALE:GREGORIAN
BEGIN:VEVENT
DTSTART:20210729T210000Z
DTEND:20210729T220000Z
X-MICROSOFT-CDO-ALLDAYEVENT:FALSE
SUMMARY:Buckshot Honey 1st Birthday Bash & Official Ribbon Cutting
DESCRIPTION:Join Buckshot Honey for it's 1st Birthday Bash & Official Ribbon Cutting.  Balloons\, Beer\, & BBQ!
X-ALT-DESC;FMTTYPE=text/html:Join Buckshot Honey for it&#39\;s 1st Birthday Bash &amp\; Official Ribbon Cutting.&nbsp\; Balloons\, Beer\, &amp\; BBQ!
LOCATION:
UID:e.1840.14183
SEQUENCE:3
DTSTAMP:20260423T052954Z
URL:http://business2.snovalley.org/events/details/buckshot-honey-1st-birthday-bash-official-ribbon-cutting-14183
END:VEVENT

END:VCALENDAR
