BEGIN:VCALENDAR
VERSION:2.0
PRODID:-//ChamberMaster//Event Calendar 2.0//EN
METHOD:PUBLISH
X-PUBLISHED-TTL:P3D
REFRESH-INTERVAL:P3D
CALSCALE:GREGORIAN
BEGIN:VEVENT
DTSTART:20201202T194500Z
DTEND:20201202T203000Z
X-MICROSOFT-CDO-ALLDAYEVENT:FALSE
SUMMARY:BizCast Forum
DESCRIPTION:Finding New Customers in Three Easy Steps.\n\n						\n\n						If you ever had the chance to use purchased prospect list\, you may wonder how they found those names. You may even wonder if you could have done a better job.\n\n						I have got some very good news for you.\n\n						Whether you have a Business-to-Business\, or Business-to-Consumer focus\, local or national audience\, I will show you how to identify the most profitable prospects. Even better\, you can even build your list at no cost.\n\n						Join me at 11:45 AM.\n\n						I'll walk you through my proven three-step process. Register in advance and you might be lucky enough to be chosen to receive a customized prospect list.\n\n						By the end of our session\, you'll be ready with the tools so you can build your own custom list and start using it immediately.\n\n						Yours in Community\,\n\n						Rob Wotton\n\n						Co-Founder\n\n						The BizCast Forum at Umpqua Bank
X-ALT-DESC;FMTTYPE=text/html:<table border="0" cellpadding="0" cellspacing="0" class="mcnTextBlock" style="border-collapse: collapse\; text-size-adjust: 100%\; color: rgb(0\, 0\, 0)\; font-family: &quot\;Times New Roman&quot\;\; font-size: medium\; min-width: 100%\;" width="100%">\n	<tbody class="mcnTextBlockOuter">\n		<tr>\n			<td class="mcnTextBlockInner" style="text-size-adjust: 100%\; padding-top: 9px\;" valign="top">\n			<table align="left" border="0" cellpadding="0" cellspacing="0" class="mcnTextContentContainer" style="border-collapse: collapse\; text-size-adjust: 100%\; max-width: 100%\; min-width: 100%\;" width="100%">\n				<tbody>\n					<tr>\n						<td class="mcnTextContent" style="text-size-adjust: 100%\; word-break: break-word\; color: rgb(32\, 32\, 32)\; font-family: Helvetica\; font-size: 16px\; line-height: 24px\; padding: 0px 18px 9px\;" valign="top">\n						<h1 style="margin: 0px\; padding: 0px\; font-size: 26px\; font-weight: bold\; line-height: 32.5px\;"><strong><span style="color: rgb(105\, 105\, 105)\;">Finding New Customers in Three Easy Steps.</span></strong></h1>\n\n						<p style="margin: 10px 0px\; padding: 0px\; text-size-adjust: 100%\; line-height: 24px\;"><br />\n						If you ever had the chance to use purchased prospect list\, you may wonder how they found those names. You may even wonder if you could have done a better job.<br />\n						I have got some very good news for you.<br />\n						Whether you have&nbsp\;a&nbsp\;Business-to-Business\, or Business-to-Consumer focus\, local or national audience\, I will show you how to identify the most profitable prospects. Even better\, you can even build your&nbsp\;list&nbsp\;<em>at no cost.</em><br />\n						Join me at 11:45 AM.<br />\n						I&#39\;ll walk you through my proven three-step process. Register in advance and you might be lucky enough to be chosen to receive a customized prospect list.<br />\n						By the end of our session\, you&#39\;ll be ready with the tools so you can build your own custom list and start using it immediately.</p>\n\n						<p style="margin: 10px 0px\; padding: 0px\; text-size-adjust: 100%\; line-height: 24px\; text-align: center\;">Yours in Community\,<br />\n						<span style="color: rgb(0\, 100\, 0)\;"><strong>Rob Wotton</strong><br />\n						Co-Founder<br />\n						The BizCast Forum at Umpqua Bank</span></p>\n						</td>\n					</tr>\n				</tbody>\n			</table>\n			</td>\n		</tr>\n	</tbody>\n</table>\n
LOCATION:
UID:e.1840.11515
SEQUENCE:3
DTSTAMP:20260421T195749Z
URL:http://business2.snovalley.org/events/details/bizcast-forum-11515
END:VEVENT

END:VCALENDAR
